0.50800000399796
0.00000000000000
0.00000000000000
-0.50800000399796
612014.43102213764000
4208349.88734790500000
