0.206999097043449
0
0
-0.206999097043449
599190.715672452
4211783.11633155
