0.20699908933613
0.00000000000000
0.00000000000000
0.20699908950195
599030.91899999999000
4211906.38800000030000
