0.207111140980819
0
0
-0.207111140980819
597875.091263429
4211807.20202857
