0.206999097043449
0
0
-0.206999097043449
597875.091319451
4211807.20197255
