0.827996388173796
0
0
-0.827996388173796
597875.091319451
4211807.20197255
