0.413998194086898
0
0
-0.413998194086898
597875.091319451
4211807.20197255
