0.800000
0.000000
0.000000
-0.800000
559887.036000
4231772.420000
