0.400000
0.000000
0.000000
-0.400000
559887.036000
4231772.420000
