0.20000000000000
0.00000000000000
0.00000000000000
-0.20000000000000
558196.73300000001000
4229796.01499999970000
