0.20000000000000
0.00000000000000
0.00000000000000
-0.20000000000000
558082.93299999996000
4229896.01499999970000
