0.20000000000000
0.00000000000000
0.00000000000000
-0.20000000000000
558148.86499999987000
4228319.92499999980000
