0.20010900000000
0.00000000000000
0.00000000000000
-0.20010900000000
558051.00000000000000
4228430.00000000000000
