0.200000
0.000000
0.000000
-0.200000
558148.865000
4229796.015000
