0.400000
0.000000
0.000000
-0.400000
542934.409000
4220019.591000
