0.200000
0.000000
0.000000
-0.200000
542934.409000
4220019.591000
