0.20000000000000
0.00000000000000
0.00000000000000
-0.20000000000000
542117.00899999996000
4220491.79100000020000
