0.200000
0.000000
0.000000
-0.200000
559310.372000
4224005.079000
