0.20475800000000
0.00000000000000
0.00000000000000
-0.20475800000000
559171.00000000000000
4224170.00000000000000
