0.19878900000000
0.00000000000000
0.00000000000000
-0.19878900000000
557669.00000000000000
4224140.00000000000000
