0.800000
0.000000
0.000000
-0.800000
557813.800000
4224005.079000
