0.4653107712777535
0.000000
0.000000
-0.4653107712777536
557865.3719150730200000
4223948.2640875690000000
