0.6133760611337005
0.000000
0.000000
-0.6133760611337005
558596.3305803888900000
4222749.7612868762000000
