0.200000
0.000000
0.000000
-0.200000
602821.000000
4213445.091000
