0.20000000000000
0.00000000000000
0.00000000000000
-0.20000000000000
602653.59999999998000
4213829.89099999980000
