0.200000
0.000000
0.000000
-0.200000
604152.325000
4213728.935000
