0.200000
0.000000
0.000000
-0.200000
601721.213000
4213602.002000
