0.20000000000000
0.00000000000000
0.00000000000000
-0.20000000000000
601555.21299999999000
4213779.00200000030000
