0.200000
0.000000
0.000000
-0.200000
603332.612000
4212281.598000
