0.20000000000000
0.00000000000000
0.00000000000000
-0.20000000000000
603207.21200000006000
4212396.19799999990000
