0.200000
0.000000
0.000000
-0.200000
602074.721000
4212321.948000
