0.20000000000000
0.00000000000000
0.00000000000000
-0.20000000000000
601866.92099999997000
4212449.74799999970000
