0.400000
0.000000
0.000000
-0.400000
601721.213000
4213728.935000
