0.398768
0
0
-0.398768
590973
4.21633e+006
