0.200000
0.000000
0.000000
-0.200000
599387.108000
4211816.901000
