0.207111
0.000000
0.000000
-0.207111
597875.091263
4211807.202029
