0.200000
0.000000
0.000000
-0.200000
559824.134000
4231750.935000
