0.200000
0.000000
0.000000
-0.200000
558298.905000
4228047.025000
