0.200000
0.000000
0.000000
-0.200000
542276.188000
4220269.238000
