0.200000
0.000000
0.000000
-0.200000
559315.492000
4223900.944000
