0.200000
0.000000
0.000000
-0.200000
557945.187000
4223946.081000
