0.200000
0.000000
0.000000
-0.200000
604200.945000
4213449.403000
