0.200000
0.000000
0.000000
-0.200000
602740.328000
4213780.521000
