0.200000
0.000000
0.000000
-0.200000
603426.765000
4212310.052000
