0.200000
0.000000
0.000000
-0.200000
602055.938000
4212233.486000
