0.4275666700317946
0.000000
0.000000
-0.4275666700317944
598130.8228045192100000
4211753.0753450496000000
