0.3736900167625528
0.000000
0.000000
-0.3736900167625528
559803.3036917959100000
4231691.7000582265000000
