0.5997656158379174
0.000000
0.000000
-0.5997656158379174
558306.2550487823300000
4229628.7290453613000000
