0.2770960663947846
0.000000
0.000000
-0.2770960663947846
542544.9872524780200000
4220113.9472453669000000
