0.4826720238888893
0.000000
0.000000
-0.4826720238888891
558142.5846581929400000
4223894.5707749864000000
